BEGIN:VCALENDAR
PRODID:-//eluceo/ical//2.0/EN
VERSION:2.0
CALSCALE:GREGORIAN
BEGIN:VEVENT
UID:2f144f5045edf1db200bcde2d1d89c67
DTSTAMP:20260419T171926Z
SUMMARY:Var gerð bylting á Íslandi 1809? 
DESCRIPTION:
URL:https://hof.rotary1360.is/is/agenda/show/3675
DTSTART;TZID=Iceland:20220324T074500
DTEND;TZID=Iceland:20220324T084500
LOCATION:Jötunheimar\nSkátafélagið Vífill \n210 Garðabæ\n
CATEGORIES:Rotary
END:VEVENT
BEGIN:VTIMEZONE
TZID:Iceland
BEGIN:STANDARD
DTSTART:20220324T074500
TZNAME:GMT
TZOFFSETTO:+0000
TZOFFSETFROM:+0000
END:STANDARD
END:VTIMEZONE
END:VCALENDAR
