BEGIN:VCALENDAR
PRODID:-//eluceo/ical//2.0/EN
VERSION:2.0
CALSCALE:GREGORIAN
BEGIN:VEVENT
UID:6272f1c4032eb820e528ad6301a6dab0
DTSTAMP:20260419T134517Z
SUMMARY:Klúbbfundur og stjórnarskipti
DESCRIPTION:
URL:https://hof.rotary1360.is/is/agenda/show/2915
DTSTART;TZID=Iceland:20210527T074500
DTEND;TZID=Iceland:20210527T084500
LOCATION:Golfskáli GKG\nGolfskáli GKG\n210 Garðabæ\n
CATEGORIES:Rotary
END:VEVENT
BEGIN:VTIMEZONE
TZID:Iceland
BEGIN:STANDARD
DTSTART:20210527T074500
TZNAME:GMT
TZOFFSETTO:+0000
TZOFFSETFROM:+0000
END:STANDARD
END:VTIMEZONE
END:VCALENDAR
